BEGIN:VCALENDAR
VERSION:2.0
PRODID:icalendar-ruby
CALSCALE:GREGORIAN
METHOD:PUBLISH
BEGIN:VEVENT
DTSTAMP:20260420T010918Z
UID:251-2104849@southsidebaptist101.tithelysetup5.com
DTSTART:20260429T223000Z
DTEND:20260429T233000Z
CLASS:PUBLIC
CREATED:20260406T092023
DESCRIPTION:Join us at 6:30 PM for a special called business meeting. If yo
 u are a member\, please make it a priority to attend. 
LAST-MODIFIED:20260406T092023
LOCATION:Southside Baptist Church
SUMMARY:Church Business Meeting
URL;VALUE=URI:https://southsidebaptist.church/events/church-business-meetin
 g--251/2026-04-29
ATTACH;FILENAME=church_business_meeting-title-1-Wide-16x9.jpg;FMTTYPE=image
 /jpeg:https://dq5pwpg1q8ru0.cloudfront.net/2026/04/06/13/20/22/9f5669eb-2a
 be-463c-81a2-04cda3018818/church_business_meeting-title-1-Wide-16x9.jpg
END:VEVENT
END:VCALENDAR
